BEGIN:VCALENDAR
VERSION:2.0
PRODID:-//wp-events-plugin.com//7.2.3.1//EN
TZID:Europe/Berlin
X-WR-TIMEZONE:Europe/Berlin
BEGIN:VEVENT
UID:998@wannseeaten1911.de
DTSTART;TZID=Europe/Berlin:20240329T120000
DTEND;TZID=Europe/Berlin:20240329T140000
DTSTAMP:20240305T175718Z
URL:https://wannseeaten1911.de/events/wasser-anstellen-2/
SUMMARY:Wasser anstellen
DESCRIPTION:&nbsp\;\n\n\n\n
CATEGORIES:Angelgruppe,Gymnastikgruppe,Jugendgruppe,Kanugruppe,Kegelgruppe
 ,Motorbootgruppe,Segelgruppe,Verein,Walkinggruppe
LOCATION:Vereinsheim\, Erna-Koschwitz-Weg 30\,  \, 13587\, Berlin\, Deutsch
 land
X-APPLE-STRUCTURED-LOCATION;VALUE=URI;X-ADDRESS=Erna-Koschwitz-Weg 30\,  \,
  13587\, Berlin\, Deutschland;X-APPLE-RADIUS=100;X-TITLE=Vereinsheim:geo:0
 ,0
END:VEVENT
BEGIN:VEVENT
UID:999@wannseeaten1911.de
DTSTART;TZID=Europe/Berlin:20240407T100000
DTEND;TZID=Europe/Berlin:20240407T123000
DTSTAMP:20240305T175805Z
URL:https://wannseeaten1911.de/events/jahreshauptversammlung-2/
SUMMARY:Jahreshauptversammlung
DESCRIPTION:&nbsp\;\n\n\n\n
CATEGORIES:Angelgruppe,Gymnastikgruppe,Jugendgruppe,Kanugruppe,Kegelgruppe
 ,Motorbootgruppe,Segelgruppe,Verein,Walkinggruppe
LOCATION:Vereinsheim\, Erna-Koschwitz-Weg 30\,  \, 13587\, Berlin\, Deutsch
 land
X-APPLE-STRUCTURED-LOCATION;VALUE=URI;X-ADDRESS=Erna-Koschwitz-Weg 30\,  \,
  13587\, Berlin\, Deutschland;X-APPLE-RADIUS=100;X-TITLE=Vereinsheim:geo:0
 ,0
END:VEVENT
BEGIN:VEVENT
UID:1056@wannseeaten1911.de
DTSTART;TZID=Europe/Berlin:20240409T160000
DTEND;TZID=Europe/Berlin:20240409T200000
DTSTAMP:20240305T195244Z
URL:https://wannseeaten1911.de/events/j-boote-aufklaeren-3/
SUMMARY:(J) Boote aufklären
DESCRIPTION:&nbsp\;\n\n
CATEGORIES:Jugendgruppe
LOCATION:Gatow (Wassersportheim Gatow)\, Alt-Gatow 5-7\,  \, Berlin\, 14089
 \, Deutschland
X-APPLE-STRUCTURED-LOCATION;VALUE=URI;X-ADDRESS=Alt-Gatow 5-7\,  \, Berlin\
 , 14089\, Deutschland;X-APPLE-RADIUS=100;X-TITLE=Gatow (Wassersportheim Ga
 tow):geo:0,0
END:VEVENT
BEGIN:VEVENT
UID:1000@wannseeaten1911.de
DTSTART;TZID=Europe/Berlin:20240413T150000
DTEND;TZID=Europe/Berlin:20240413T163000
DTSTAMP:20240221T115851Z
URL:https://wannseeaten1911.de/events/flaggenparade-w11-saisonbeginn-2/
SUMMARY:Flaggenparade W11 - Saisonbeginn
DESCRIPTION:&nbsp\;\n\n\n\n
CATEGORIES:Angelgruppe,Gymnastikgruppe,Jugendgruppe,Kanugruppe,Kegelgruppe
 ,Motorbootgruppe,Segelgruppe,Verein,Walkinggruppe
LOCATION:Fahnenmast\, Erna-Koschwitz-Weg 30\,  \, Berlin\, 13587\, Berlin\,
  Deutschland
X-APPLE-STRUCTURED-LOCATION;VALUE=URI;X-ADDRESS=Erna-Koschwitz-Weg 30\,  \,
  Berlin\, 13587\, Berlin\, Deutschland;X-APPLE-RADIUS=100;X-TITLE=Fahnenma
 st:geo:0,0
END:VEVENT
BEGIN:VEVENT
UID:1057@wannseeaten1911.de
DTSTART;TZID=Europe/Berlin:20240416T160000
DTEND;TZID=Europe/Berlin:20240416T200000
DTSTAMP:20240305T195855Z
URL:https://wannseeaten1911.de/events/j-beginn-des-trainings-2/
SUMMARY:(J) Beginn des Trainings
DESCRIPTION:&nbsp\;\n\n
CATEGORIES:Jugendgruppe
LOCATION:Gatow (Wassersportheim Gatow)\, Alt-Gatow 5-7\,  \, Berlin\, 14089
 \, Deutschland
X-APPLE-STRUCTURED-LOCATION;VALUE=URI;X-ADDRESS=Alt-Gatow 5-7\,  \, Berlin\
 , 14089\, Deutschland;X-APPLE-RADIUS=100;X-TITLE=Gatow (Wassersportheim Ga
 tow):geo:0,0
END:VEVENT
BEGIN:VEVENT
UID:1058@wannseeaten1911.de
DTSTART;TZID=Europe/Berlin:20240417T160000
DTEND;TZID=Europe/Berlin:20240417T200000
DTSTAMP:20240305T195954Z
URL:https://wannseeaten1911.de/events/j-beginn-des-trainings-3/
SUMMARY:(J) Beginn des Trainings
DESCRIPTION:&nbsp\;\n\n
CATEGORIES:Jugendgruppe
LOCATION:Gatow (Wassersportheim Gatow)\, Alt-Gatow 5-7\,  \, Berlin\, 14089
 \, Deutschland
X-APPLE-STRUCTURED-LOCATION;VALUE=URI;X-ADDRESS=Alt-Gatow 5-7\,  \, Berlin\
 , 14089\, Deutschland;X-APPLE-RADIUS=100;X-TITLE=Gatow (Wassersportheim Ga
 tow):geo:0,0
END:VEVENT
BEGIN:VEVENT
UID:1060@wannseeaten1911.de
DTSTART;TZID=Europe/Berlin:20240423T160000
DTEND;TZID=Europe/Berlin:20240423T200000
DTSTAMP:20240305T200451Z
URL:https://wannseeaten1911.de/events/j-training-4-2024-04-23/
SUMMARY:(J) Training
DESCRIPTION:&nbsp\;\n\n
CATEGORIES:Jugendgruppe
LOCATION:Gatow (Wassersportheim Gatow)\, Alt-Gatow 5-7\,  \, Berlin\, 14089
 \, Deutschland
X-APPLE-STRUCTURED-LOCATION;VALUE=URI;X-ADDRESS=Alt-Gatow 5-7\,  \, Berlin\
 , 14089\, Deutschland;X-APPLE-RADIUS=100;X-TITLE=Gatow (Wassersportheim Ga
 tow):geo:0,0
END:VEVENT
BEGIN:VEVENT
UID:1061@wannseeaten1911.de
DTSTART;TZID=Europe/Berlin:20240424T160000
DTEND;TZID=Europe/Berlin:20240424T200000
DTSTAMP:20240305T200451Z
URL:https://wannseeaten1911.de/events/j-training-4-2024-04-24/
SUMMARY:(J) Training
DESCRIPTION:&nbsp\;\n\n
CATEGORIES:Jugendgruppe
LOCATION:Gatow (Wassersportheim Gatow)\, Alt-Gatow 5-7\,  \, Berlin\, 14089
 \, Deutschland
X-APPLE-STRUCTURED-LOCATION;VALUE=URI;X-ADDRESS=Alt-Gatow 5-7\,  \, Berlin\
 , 14089\, Deutschland;X-APPLE-RADIUS=100;X-TITLE=Gatow (Wassersportheim Ga
 tow):geo:0,0
END:VEVENT
BEGIN:VEVENT
UID:1062@wannseeaten1911.de
DTSTART;TZID=Europe/Berlin:20240430T160000
DTEND;TZID=Europe/Berlin:20240430T200000
DTSTAMP:20240305T200451Z
URL:https://wannseeaten1911.de/events/j-training-4-2024-04-30/
SUMMARY:(J) Training
DESCRIPTION:&nbsp\;\n\n
CATEGORIES:Jugendgruppe
LOCATION:Gatow (Wassersportheim Gatow)\, Alt-Gatow 5-7\,  \, Berlin\, 14089
 \, Deutschland
X-APPLE-STRUCTURED-LOCATION;VALUE=URI;X-ADDRESS=Alt-Gatow 5-7\,  \, Berlin\
 , 14089\, Deutschland;X-APPLE-RADIUS=100;X-TITLE=Gatow (Wassersportheim Ga
 tow):geo:0,0
END:VEVENT
BEGIN:VEVENT
UID:1063@wannseeaten1911.de
DTSTART;TZID=Europe/Berlin:20240501T160000
DTEND;TZID=Europe/Berlin:20240501T200000
DTSTAMP:20240305T200451Z
URL:https://wannseeaten1911.de/events/j-training-4-2024-05-01/
SUMMARY:(J) Training
DESCRIPTION:&nbsp\;\n\n
CATEGORIES:Jugendgruppe
LOCATION:Gatow (Wassersportheim Gatow)\, Alt-Gatow 5-7\,  \, Berlin\, 14089
 \, Deutschland
X-APPLE-STRUCTURED-LOCATION;VALUE=URI;X-ADDRESS=Alt-Gatow 5-7\,  \, Berlin\
 , 14089\, Deutschland;X-APPLE-RADIUS=100;X-TITLE=Gatow (Wassersportheim Ga
 tow):geo:0,0
END:VEVENT
BEGIN:VEVENT
UID:1104@wannseeaten1911.de
DTSTART;TZID=Europe/Berlin:20240504T140000
DTEND;TZID=Europe/Berlin:20240504T190000
DTSTAMP:20240305T200757Z
URL:https://wannseeaten1911.de/events/j-anfahren-2/
SUMMARY:(J) Anfahren
DESCRIPTION:&nbsp\;\n\n
CATEGORIES:Jugendgruppe
LOCATION:MYC Tegel (Motor-Yacht-Club Tegel e.V.)\, Borsigdamm 4\,  \, Berli
 n\, 13507\, Deutschland
X-APPLE-STRUCTURED-LOCATION;VALUE=URI;X-ADDRESS=Borsigdamm 4\,  \, Berlin\,
  13507\, Deutschland;X-APPLE-RADIUS=100;X-TITLE=MYC Tegel (Motor-Yacht-Clu
 b Tegel e.V.):geo:0,0
END:VEVENT
BEGIN:VEVENT
UID:1105@wannseeaten1911.de
DTSTART;TZID=Europe/Berlin:20240505T110000
DTEND;TZID=Europe/Berlin:20240505T123000
DTSTAMP:20240305T201012Z
URL:https://wannseeaten1911.de/events/j-flaggenparade-2/
SUMMARY:(J) Flaggenparade
DESCRIPTION:&nbsp\;\n\n
CATEGORIES:Jugendgruppe
LOCATION:MYC Tegel (Motor-Yacht-Club Tegel e.V.)\, Borsigdamm 4\,  \, Berli
 n\, 13507\, Deutschland
X-APPLE-STRUCTURED-LOCATION;VALUE=URI;X-ADDRESS=Borsigdamm 4\,  \, Berlin\,
  13507\, Deutschland;X-APPLE-RADIUS=100;X-TITLE=MYC Tegel (Motor-Yacht-Clu
 b Tegel e.V.):geo:0,0
END:VEVENT
BEGIN:VEVENT
UID:1064@wannseeaten1911.de
DTSTART;TZID=Europe/Berlin:20240507T160000
DTEND;TZID=Europe/Berlin:20240507T200000
DTSTAMP:20240305T200451Z
URL:https://wannseeaten1911.de/events/j-training-4-2024-05-07/
SUMMARY:(J) Training
DESCRIPTION:&nbsp\;\n\n
CATEGORIES:Jugendgruppe
LOCATION:Gatow (Wassersportheim Gatow)\, Alt-Gatow 5-7\,  \, Berlin\, 14089
 \, Deutschland
X-APPLE-STRUCTURED-LOCATION;VALUE=URI;X-ADDRESS=Alt-Gatow 5-7\,  \, Berlin\
 , 14089\, Deutschland;X-APPLE-RADIUS=100;X-TITLE=Gatow (Wassersportheim Ga
 tow):geo:0,0
END:VEVENT
BEGIN:VEVENT
UID:1065@wannseeaten1911.de
DTSTART;TZID=Europe/Berlin:20240508T160000
DTEND;TZID=Europe/Berlin:20240508T200000
DTSTAMP:20240305T200451Z
URL:https://wannseeaten1911.de/events/j-training-4-2024-05-08/
SUMMARY:(J) Training
DESCRIPTION:&nbsp\;\n\n
CATEGORIES:Jugendgruppe
LOCATION:Gatow (Wassersportheim Gatow)\, Alt-Gatow 5-7\,  \, Berlin\, 14089
 \, Deutschland
X-APPLE-STRUCTURED-LOCATION;VALUE=URI;X-ADDRESS=Alt-Gatow 5-7\,  \, Berlin\
 , 14089\, Deutschland;X-APPLE-RADIUS=100;X-TITLE=Gatow (Wassersportheim Ga
 tow):geo:0,0
END:VEVENT
BEGIN:VEVENT
UID:1106@wannseeaten1911.de
DTSTART;TZID=Europe/Berlin;VALUE=DATE:20240510
DTEND;TZID=Europe/Berlin;VALUE=DATE:20240513
DTSTAMP:20240305T214842Z
URL:https://wannseeaten1911.de/events/j-nationalkaderauswahl/
SUMMARY:(J) Nationalkaderauswahl
DESCRIPTION:&nbsp\;\n\n
CATEGORIES:Jugendgruppe
END:VEVENT
BEGIN:VEVENT
UID:1066@wannseeaten1911.de
DTSTART;TZID=Europe/Berlin:20240514T160000
DTEND;TZID=Europe/Berlin:20240514T200000
DTSTAMP:20240305T200451Z
URL:https://wannseeaten1911.de/events/j-training-4-2024-05-14/
SUMMARY:(J) Training
DESCRIPTION:&nbsp\;\n\n
CATEGORIES:Jugendgruppe
LOCATION:Gatow (Wassersportheim Gatow)\, Alt-Gatow 5-7\,  \, Berlin\, 14089
 \, Deutschland
X-APPLE-STRUCTURED-LOCATION;VALUE=URI;X-ADDRESS=Alt-Gatow 5-7\,  \, Berlin\
 , 14089\, Deutschland;X-APPLE-RADIUS=100;X-TITLE=Gatow (Wassersportheim Ga
 tow):geo:0,0
END:VEVENT
BEGIN:VEVENT
UID:1067@wannseeaten1911.de
DTSTART;TZID=Europe/Berlin:20240515T160000
DTEND;TZID=Europe/Berlin:20240515T200000
DTSTAMP:20240305T200451Z
URL:https://wannseeaten1911.de/events/j-training-4-2024-05-15/
SUMMARY:(J) Training
DESCRIPTION:&nbsp\;\n\n
CATEGORIES:Jugendgruppe
LOCATION:Gatow (Wassersportheim Gatow)\, Alt-Gatow 5-7\,  \, Berlin\, 14089
 \, Deutschland
X-APPLE-STRUCTURED-LOCATION;VALUE=URI;X-ADDRESS=Alt-Gatow 5-7\,  \, Berlin\
 , 14089\, Deutschland;X-APPLE-RADIUS=100;X-TITLE=Gatow (Wassersportheim Ga
 tow):geo:0,0
END:VEVENT
BEGIN:VEVENT
UID:1023@wannseeaten1911.de
DTSTART;TZID=Europe/Berlin:20240519T090000
DTEND;TZID=Europe/Berlin:20240519T150000
DTSTAMP:20240507T171816Z
URL:https://wannseeaten1911.de/events/pfingstkonzert-3/
SUMMARY:Pfingstkonzert ++Fällt aus!!!++
DESCRIPTION:&nbsp\;\n\n\n\n\n\n
CATEGORIES:Angelgruppe,Gymnastikgruppe,Jugendgruppe,Kanugruppe,Kegelgruppe
 ,Motorbootgruppe,Segelgruppe,Verein,Walkinggruppe
LOCATION:Festplatz\, Erna-Koschwitz-Weg 30\,  \, 13587\, Berlin\, Deutschla
 nd
X-APPLE-STRUCTURED-LOCATION;VALUE=URI;X-ADDRESS=Erna-Koschwitz-Weg 30\,  \,
  13587\, Berlin\, Deutschland;X-APPLE-RADIUS=100;X-TITLE=Festplatz:geo:0,0
END:VEVENT
BEGIN:VEVENT
UID:1068@wannseeaten1911.de
DTSTART;TZID=Europe/Berlin:20240521T160000
DTEND;TZID=Europe/Berlin:20240521T200000
DTSTAMP:20240305T200451Z
URL:https://wannseeaten1911.de/events/j-training-4-2024-05-21/
SUMMARY:(J) Training
DESCRIPTION:&nbsp\;\n\n
CATEGORIES:Jugendgruppe
LOCATION:Gatow (Wassersportheim Gatow)\, Alt-Gatow 5-7\,  \, Berlin\, 14089
 \, Deutschland
X-APPLE-STRUCTURED-LOCATION;VALUE=URI;X-ADDRESS=Alt-Gatow 5-7\,  \, Berlin\
 , 14089\, Deutschland;X-APPLE-RADIUS=100;X-TITLE=Gatow (Wassersportheim Ga
 tow):geo:0,0
END:VEVENT
BEGIN:VEVENT
UID:1069@wannseeaten1911.de
DTSTART;TZID=Europe/Berlin:20240522T160000
DTEND;TZID=Europe/Berlin:20240522T200000
DTSTAMP:20240305T200451Z
URL:https://wannseeaten1911.de/events/j-training-4-2024-05-22/
SUMMARY:(J) Training
DESCRIPTION:&nbsp\;\n\n
CATEGORIES:Jugendgruppe
LOCATION:Gatow (Wassersportheim Gatow)\, Alt-Gatow 5-7\,  \, Berlin\, 14089
 \, Deutschland
X-APPLE-STRUCTURED-LOCATION;VALUE=URI;X-ADDRESS=Alt-Gatow 5-7\,  \, Berlin\
 , 14089\, Deutschland;X-APPLE-RADIUS=100;X-TITLE=Gatow (Wassersportheim Ga
 tow):geo:0,0
END:VEVENT
BEGIN:VEVENT
UID:1107@wannseeaten1911.de
DTSTART;TZID=Europe/Berlin:20240525T080000
DTEND;TZID=Europe/Berlin:20240525T180000
DTSTAMP:20240305T215059Z
URL:https://wannseeaten1911.de/events/j-1-berlin-cup-lauf-4/
SUMMARY:(J) 1. Berlin Cup Lauf
DESCRIPTION:&nbsp\;\n\n
CATEGORIES:Jugendgruppe
LOCATION:Gatow (Wassersportheim Gatow)\, Alt-Gatow 5-7\,  \, Berlin\, 14089
 \, Deutschland
X-APPLE-STRUCTURED-LOCATION;VALUE=URI;X-ADDRESS=Alt-Gatow 5-7\,  \, Berlin\
 , 14089\, Deutschland;X-APPLE-RADIUS=100;X-TITLE=Gatow (Wassersportheim Ga
 tow):geo:0,0
END:VEVENT
BEGIN:VEVENT
UID:1070@wannseeaten1911.de
DTSTART;TZID=Europe/Berlin:20240528T160000
DTEND;TZID=Europe/Berlin:20240528T200000
DTSTAMP:20240305T200451Z
URL:https://wannseeaten1911.de/events/j-training-4-2024-05-28/
SUMMARY:(J) Training
DESCRIPTION:&nbsp\;\n\n
CATEGORIES:Jugendgruppe
LOCATION:Gatow (Wassersportheim Gatow)\, Alt-Gatow 5-7\,  \, Berlin\, 14089
 \, Deutschland
X-APPLE-STRUCTURED-LOCATION;VALUE=URI;X-ADDRESS=Alt-Gatow 5-7\,  \, Berlin\
 , 14089\, Deutschland;X-APPLE-RADIUS=100;X-TITLE=Gatow (Wassersportheim Ga
 tow):geo:0,0
END:VEVENT
BEGIN:VEVENT
UID:1071@wannseeaten1911.de
DTSTART;TZID=Europe/Berlin:20240529T160000
DTEND;TZID=Europe/Berlin:20240529T200000
DTSTAMP:20240305T200451Z
URL:https://wannseeaten1911.de/events/j-training-4-2024-05-29/
SUMMARY:(J) Training
DESCRIPTION:&nbsp\;\n\n
CATEGORIES:Jugendgruppe
LOCATION:Gatow (Wassersportheim Gatow)\, Alt-Gatow 5-7\,  \, Berlin\, 14089
 \, Deutschland
X-APPLE-STRUCTURED-LOCATION;VALUE=URI;X-ADDRESS=Alt-Gatow 5-7\,  \, Berlin\
 , 14089\, Deutschland;X-APPLE-RADIUS=100;X-TITLE=Gatow (Wassersportheim Ga
 tow):geo:0,0
END:VEVENT
BEGIN:VEVENT
UID:1072@wannseeaten1911.de
DTSTART;TZID=Europe/Berlin:20240604T160000
DTEND;TZID=Europe/Berlin:20240604T200000
DTSTAMP:20240305T200451Z
URL:https://wannseeaten1911.de/events/j-training-4-2024-06-04/
SUMMARY:(J) Training
DESCRIPTION:&nbsp\;\n\n
CATEGORIES:Jugendgruppe
LOCATION:Gatow (Wassersportheim Gatow)\, Alt-Gatow 5-7\,  \, Berlin\, 14089
 \, Deutschland
X-APPLE-STRUCTURED-LOCATION;VALUE=URI;X-ADDRESS=Alt-Gatow 5-7\,  \, Berlin\
 , 14089\, Deutschland;X-APPLE-RADIUS=100;X-TITLE=Gatow (Wassersportheim Ga
 tow):geo:0,0
END:VEVENT
BEGIN:VEVENT
UID:1073@wannseeaten1911.de
DTSTART;TZID=Europe/Berlin:20240605T160000
DTEND;TZID=Europe/Berlin:20240605T200000
DTSTAMP:20240305T200451Z
URL:https://wannseeaten1911.de/events/j-training-4-2024-06-05/
SUMMARY:(J) Training
DESCRIPTION:&nbsp\;\n\n
CATEGORIES:Jugendgruppe
LOCATION:Gatow (Wassersportheim Gatow)\, Alt-Gatow 5-7\,  \, Berlin\, 14089
 \, Deutschland
X-APPLE-STRUCTURED-LOCATION;VALUE=URI;X-ADDRESS=Alt-Gatow 5-7\,  \, Berlin\
 , 14089\, Deutschland;X-APPLE-RADIUS=100;X-TITLE=Gatow (Wassersportheim Ga
 tow):geo:0,0
END:VEVENT
BEGIN:VEVENT
UID:1074@wannseeaten1911.de
DTSTART;TZID=Europe/Berlin:20240611T160000
DTEND;TZID=Europe/Berlin:20240611T200000
DTSTAMP:20240305T200451Z
URL:https://wannseeaten1911.de/events/j-training-4-2024-06-11/
SUMMARY:(J) Training
DESCRIPTION:&nbsp\;\n\n
CATEGORIES:Jugendgruppe
LOCATION:Gatow (Wassersportheim Gatow)\, Alt-Gatow 5-7\,  \, Berlin\, 14089
 \, Deutschland
X-APPLE-STRUCTURED-LOCATION;VALUE=URI;X-ADDRESS=Alt-Gatow 5-7\,  \, Berlin\
 , 14089\, Deutschland;X-APPLE-RADIUS=100;X-TITLE=Gatow (Wassersportheim Ga
 tow):geo:0,0
END:VEVENT
BEGIN:VEVENT
UID:1075@wannseeaten1911.de
DTSTART;TZID=Europe/Berlin:20240612T160000
DTEND;TZID=Europe/Berlin:20240612T200000
DTSTAMP:20240305T200451Z
URL:https://wannseeaten1911.de/events/j-training-4-2024-06-12/
SUMMARY:(J) Training
DESCRIPTION:&nbsp\;\n\n
CATEGORIES:Jugendgruppe
LOCATION:Gatow (Wassersportheim Gatow)\, Alt-Gatow 5-7\,  \, Berlin\, 14089
 \, Deutschland
X-APPLE-STRUCTURED-LOCATION;VALUE=URI;X-ADDRESS=Alt-Gatow 5-7\,  \, Berlin\
 , 14089\, Deutschland;X-APPLE-RADIUS=100;X-TITLE=Gatow (Wassersportheim Ga
 tow):geo:0,0
END:VEVENT
BEGIN:VEVENT
UID:1108@wannseeaten1911.de
DTSTART;TZID=Europe/Berlin:20240615T080000
DTEND;TZID=Europe/Berlin:20240615T180000
DTSTAMP:20240305T215153Z
URL:https://wannseeaten1911.de/events/j-2-berlin-cup-lauf-4/
SUMMARY:(J) 2. Berlin Cup Lauf
DESCRIPTION:&nbsp\;\n\n
CATEGORIES:Jugendgruppe
LOCATION:Gatow (Wassersportheim Gatow)\, Alt-Gatow 5-7\,  \, Berlin\, 14089
 \, Deutschland
X-APPLE-STRUCTURED-LOCATION;VALUE=URI;X-ADDRESS=Alt-Gatow 5-7\,  \, Berlin\
 , 14089\, Deutschland;X-APPLE-RADIUS=100;X-TITLE=Gatow (Wassersportheim Ga
 tow):geo:0,0
END:VEVENT
BEGIN:VEVENT
UID:1076@wannseeaten1911.de
DTSTART;TZID=Europe/Berlin:20240618T160000
DTEND;TZID=Europe/Berlin:20240618T200000
DTSTAMP:20240305T200451Z
URL:https://wannseeaten1911.de/events/j-training-4-2024-06-18/
SUMMARY:(J) Training
DESCRIPTION:&nbsp\;\n\n
CATEGORIES:Jugendgruppe
LOCATION:Gatow (Wassersportheim Gatow)\, Alt-Gatow 5-7\,  \, Berlin\, 14089
 \, Deutschland
X-APPLE-STRUCTURED-LOCATION;VALUE=URI;X-ADDRESS=Alt-Gatow 5-7\,  \, Berlin\
 , 14089\, Deutschland;X-APPLE-RADIUS=100;X-TITLE=Gatow (Wassersportheim Ga
 tow):geo:0,0
END:VEVENT
BEGIN:VEVENT
UID:1077@wannseeaten1911.de
DTSTART;TZID=Europe/Berlin:20240619T160000
DTEND;TZID=Europe/Berlin:20240619T200000
DTSTAMP:20240305T215425Z
URL:https://wannseeaten1911.de/events/j-training-4-2024-06-19/
SUMMARY:(J) Beginn MS Training
DESCRIPTION:&nbsp\;\n\n\n\n
CATEGORIES:Jugendgruppe
LOCATION:Gatow (Wassersportheim Gatow)\, Alt-Gatow 5-7\,  \, Berlin\, 14089
 \, Deutschland
X-APPLE-STRUCTURED-LOCATION;VALUE=URI;X-ADDRESS=Alt-Gatow 5-7\,  \, Berlin\
 , 14089\, Deutschland;X-APPLE-RADIUS=100;X-TITLE=Gatow (Wassersportheim Ga
 tow):geo:0,0
END:VEVENT
BEGIN:VEVENT
UID:1024@wannseeaten1911.de
DTSTART;TZID=Europe/Berlin:20240622T150000
DTEND;TZID=Europe/Berlin:20240622T190000
DTSTAMP:20240305T184009Z
URL:https://wannseeaten1911.de/events/kinder-und-jugendsportfest-3/
SUMMARY:Kinder- und Jugendsportfest
DESCRIPTION:&nbsp\;\n\n\n\n\n\n
CATEGORIES:Angelgruppe,Gymnastikgruppe,Jugendgruppe,Kanugruppe,Kegelgruppe
 ,Motorbootgruppe,Segelgruppe,Verein,Walkinggruppe
LOCATION:Festplatz\, Erna-Koschwitz-Weg 30\,  \, 13587\, Berlin\, Deutschla
 nd
X-APPLE-STRUCTURED-LOCATION;VALUE=URI;X-ADDRESS=Erna-Koschwitz-Weg 30\,  \,
  13587\, Berlin\, Deutschland;X-APPLE-RADIUS=100;X-TITLE=Festplatz:geo:0,0
END:VEVENT
BEGIN:VEVENT
UID:1078@wannseeaten1911.de
DTSTART;TZID=Europe/Berlin:20240625T160000
DTEND;TZID=Europe/Berlin:20240625T200000
DTSTAMP:20240305T200451Z
URL:https://wannseeaten1911.de/events/j-training-4-2024-06-25/
SUMMARY:(J) Training
DESCRIPTION:&nbsp\;\n\n
CATEGORIES:Jugendgruppe
LOCATION:Gatow (Wassersportheim Gatow)\, Alt-Gatow 5-7\,  \, Berlin\, 14089
 \, Deutschland
X-APPLE-STRUCTURED-LOCATION;VALUE=URI;X-ADDRESS=Alt-Gatow 5-7\,  \, Berlin\
 , 14089\, Deutschland;X-APPLE-RADIUS=100;X-TITLE=Gatow (Wassersportheim Ga
 tow):geo:0,0
END:VEVENT
BEGIN:VEVENT
UID:1079@wannseeaten1911.de
DTSTART;TZID=Europe/Berlin:20240626T160000
DTEND;TZID=Europe/Berlin:20240626T200000
DTSTAMP:20240305T200451Z
URL:https://wannseeaten1911.de/events/j-training-4-2024-06-26/
SUMMARY:(J) Training
DESCRIPTION:&nbsp\;\n\n
CATEGORIES:Jugendgruppe
LOCATION:Gatow (Wassersportheim Gatow)\, Alt-Gatow 5-7\,  \, Berlin\, 14089
 \, Deutschland
X-APPLE-STRUCTURED-LOCATION;VALUE=URI;X-ADDRESS=Alt-Gatow 5-7\,  \, Berlin\
 , 14089\, Deutschland;X-APPLE-RADIUS=100;X-TITLE=Gatow (Wassersportheim Ga
 tow):geo:0,0
END:VEVENT
BEGIN:VEVENT
UID:1080@wannseeaten1911.de
DTSTART;TZID=Europe/Berlin:20240702T160000
DTEND;TZID=Europe/Berlin:20240702T200000
DTSTAMP:20240305T200451Z
URL:https://wannseeaten1911.de/events/j-training-4-2024-07-02/
SUMMARY:(J) Training
DESCRIPTION:&nbsp\;\n\n
CATEGORIES:Jugendgruppe
LOCATION:Gatow (Wassersportheim Gatow)\, Alt-Gatow 5-7\,  \, Berlin\, 14089
 \, Deutschland
X-APPLE-STRUCTURED-LOCATION;VALUE=URI;X-ADDRESS=Alt-Gatow 5-7\,  \, Berlin\
 , 14089\, Deutschland;X-APPLE-RADIUS=100;X-TITLE=Gatow (Wassersportheim Ga
 tow):geo:0,0
END:VEVENT
BEGIN:VEVENT
UID:1081@wannseeaten1911.de
DTSTART;TZID=Europe/Berlin:20240703T160000
DTEND;TZID=Europe/Berlin:20240703T200000
DTSTAMP:20240305T200451Z
URL:https://wannseeaten1911.de/events/j-training-4-2024-07-03/
SUMMARY:(J) Training
DESCRIPTION:&nbsp\;\n\n
CATEGORIES:Jugendgruppe
LOCATION:Gatow (Wassersportheim Gatow)\, Alt-Gatow 5-7\,  \, Berlin\, 14089
 \, Deutschland
X-APPLE-STRUCTURED-LOCATION;VALUE=URI;X-ADDRESS=Alt-Gatow 5-7\,  \, Berlin\
 , 14089\, Deutschland;X-APPLE-RADIUS=100;X-TITLE=Gatow (Wassersportheim Ga
 tow):geo:0,0
END:VEVENT
BEGIN:VEVENT
UID:1109@wannseeaten1911.de
DTSTART;TZID=Europe/Berlin:20240706T080000
DTEND;TZID=Europe/Berlin:20240706T180000
DTSTAMP:20240305T215719Z
URL:https://wannseeaten1911.de/events/j-3-berlin-cup-lauf-clubmeisterschaf
 t-4/
SUMMARY:(J) 3. Berlin Cup Lauf / Clubmeisterschaft
DESCRIPTION:&nbsp\;\n\n
CATEGORIES:Jugendgruppe
LOCATION:Gatow (Wassersportheim Gatow)\, Alt-Gatow 5-7\,  \, Berlin\, 14089
 \, Deutschland
X-APPLE-STRUCTURED-LOCATION;VALUE=URI;X-ADDRESS=Alt-Gatow 5-7\,  \, Berlin\
 , 14089\, Deutschland;X-APPLE-RADIUS=100;X-TITLE=Gatow (Wassersportheim Ga
 tow):geo:0,0
END:VEVENT
BEGIN:VEVENT
UID:1025@wannseeaten1911.de
DTSTART;TZID=Europe/Berlin:20240706T150000
DTEND;TZID=Europe/Berlin:20240706T220000
DTSTAMP:20240305T190312Z
URL:https://wannseeaten1911.de/events/sommerfest-3/
SUMMARY:Sommerfest
DESCRIPTION:&nbsp\;\n\n\n\n\n\n
CATEGORIES:Angelgruppe,Gymnastikgruppe,Jugendgruppe,Kanugruppe,Kegelgruppe
 ,Motorbootgruppe,Segelgruppe,Verein,Walkinggruppe
LOCATION:Festplatz\, Erna-Koschwitz-Weg 30\,  \, 13587\, Berlin\, Deutschla
 nd
X-APPLE-STRUCTURED-LOCATION;VALUE=URI;X-ADDRESS=Erna-Koschwitz-Weg 30\,  \,
  13587\, Berlin\, Deutschland;X-APPLE-RADIUS=100;X-TITLE=Festplatz:geo:0,0
END:VEVENT
BEGIN:VEVENT
UID:1082@wannseeaten1911.de
DTSTART;TZID=Europe/Berlin:20240709T160000
DTEND;TZID=Europe/Berlin:20240709T200000
DTSTAMP:20240305T200451Z
URL:https://wannseeaten1911.de/events/j-training-4-2024-07-09/
SUMMARY:(J) Training
DESCRIPTION:&nbsp\;\n\n
CATEGORIES:Jugendgruppe
LOCATION:Gatow (Wassersportheim Gatow)\, Alt-Gatow 5-7\,  \, Berlin\, 14089
 \, Deutschland
X-APPLE-STRUCTURED-LOCATION;VALUE=URI;X-ADDRESS=Alt-Gatow 5-7\,  \, Berlin\
 , 14089\, Deutschland;X-APPLE-RADIUS=100;X-TITLE=Gatow (Wassersportheim Ga
 tow):geo:0,0
END:VEVENT
BEGIN:VEVENT
UID:1083@wannseeaten1911.de
DTSTART;TZID=Europe/Berlin:20240710T160000
DTEND;TZID=Europe/Berlin:20240710T200000
DTSTAMP:20240305T200451Z
URL:https://wannseeaten1911.de/events/j-training-4-2024-07-10/
SUMMARY:(J) Training
DESCRIPTION:&nbsp\;\n\n
CATEGORIES:Jugendgruppe
LOCATION:Gatow (Wassersportheim Gatow)\, Alt-Gatow 5-7\,  \, Berlin\, 14089
 \, Deutschland
X-APPLE-STRUCTURED-LOCATION;VALUE=URI;X-ADDRESS=Alt-Gatow 5-7\,  \, Berlin\
 , 14089\, Deutschland;X-APPLE-RADIUS=100;X-TITLE=Gatow (Wassersportheim Ga
 tow):geo:0,0
END:VEVENT
BEGIN:VEVENT
UID:1110@wannseeaten1911.de
DTSTART;TZID=Europe/Berlin:20240713T080000
DTEND;TZID=Europe/Berlin:20240713T180000
DTSTAMP:20240309T001303Z
URL:https://wannseeaten1911.de/events/j-stern-von-berlin-4/
SUMMARY:(J\, M) Stern von Berlin
DESCRIPTION:&nbsp\;\n\n\n\nDatum: 13.07.2024 | ab 12.00 Uhr\nOrt: Berlin\, 
 an der Pfaueninsel/Havel\n\nDer STERN VON BERLIN ist eine überregionale V
 eranstaltung des Motoryachtverband Berlin wird am 13. Juli 2024 auf der Ha
 vel zwischen der Pfaueninsel und der kleinen Insel Kälberwerder bei Kilom
 eter 13 der Unteren Havel-Wasserstraße gebildet.\n\nAchtung: Zwischen den
  beiden Inseln zum Hauptfahrwasser der Havel hin befindet sich eine Untief
 e mit zum Teil unter einem Meter Wassertiefe.\n\n\n\n
CATEGORIES:Jugendgruppe,Motorbootgruppe
LOCATION:an der Pfaueninsel\, Pfaueninsel\, Unterhavel\, Berlin\, Berlin\, 
 14109\, Deutschland
X-APPLE-STRUCTURED-LOCATION;VALUE=URI;X-ADDRESS=Pfaueninsel\, Unterhavel\, 
 Berlin\, Berlin\, 14109\, Deutschland;X-APPLE-RADIUS=100;X-TITLE=an der Pf
 aueninsel:geo:0,0
END:VEVENT
BEGIN:VEVENT
UID:1084@wannseeaten1911.de
DTSTART;TZID=Europe/Berlin:20240716T160000
DTEND;TZID=Europe/Berlin:20240716T200000
DTSTAMP:20240305T200451Z
URL:https://wannseeaten1911.de/events/j-training-4-2024-07-16/
SUMMARY:(J) Training
DESCRIPTION:&nbsp\;\n\n
CATEGORIES:Jugendgruppe
LOCATION:Gatow (Wassersportheim Gatow)\, Alt-Gatow 5-7\,  \, Berlin\, 14089
 \, Deutschland
X-APPLE-STRUCTURED-LOCATION;VALUE=URI;X-ADDRESS=Alt-Gatow 5-7\,  \, Berlin\
 , 14089\, Deutschland;X-APPLE-RADIUS=100;X-TITLE=Gatow (Wassersportheim Ga
 tow):geo:0,0
END:VEVENT
BEGIN:VEVENT
UID:1085@wannseeaten1911.de
DTSTART;TZID=Europe/Berlin:20240717T160000
DTEND;TZID=Europe/Berlin:20240717T200000
DTSTAMP:20240305T200451Z
URL:https://wannseeaten1911.de/events/j-training-4-2024-07-17/
SUMMARY:(J) Training
DESCRIPTION:&nbsp\;\n\n
CATEGORIES:Jugendgruppe
LOCATION:Gatow (Wassersportheim Gatow)\, Alt-Gatow 5-7\,  \, Berlin\, 14089
 \, Deutschland
X-APPLE-STRUCTURED-LOCATION;VALUE=URI;X-ADDRESS=Alt-Gatow 5-7\,  \, Berlin\
 , 14089\, Deutschland;X-APPLE-RADIUS=100;X-TITLE=Gatow (Wassersportheim Ga
 tow):geo:0,0
END:VEVENT
BEGIN:VEVENT
UID:1086@wannseeaten1911.de
DTSTART;TZID=Europe/Berlin:20240723T160000
DTEND;TZID=Europe/Berlin:20240723T200000
DTSTAMP:20240308T170148Z
URL:https://wannseeaten1911.de/events/j-training-4-2024-07-23/
SUMMARY:(J) Sondertraining MS11
DESCRIPTION:&nbsp\;\n\n\n\n
CATEGORIES:Jugendgruppe
LOCATION:Gatow (Wassersportheim Gatow)\, Alt-Gatow 5-7\,  \, Berlin\, 14089
 \, Deutschland
X-APPLE-STRUCTURED-LOCATION;VALUE=URI;X-ADDRESS=Alt-Gatow 5-7\,  \, Berlin\
 , 14089\, Deutschland;X-APPLE-RADIUS=100;X-TITLE=Gatow (Wassersportheim Ga
 tow):geo:0,0
END:VEVENT
BEGIN:VEVENT
UID:1087@wannseeaten1911.de
DTSTART;TZID=Europe/Berlin:20240724T160000
DTEND;TZID=Europe/Berlin:20240724T200000
DTSTAMP:20240308T170227Z
URL:https://wannseeaten1911.de/events/j-training-4-2024-07-24/
SUMMARY:(J) Sondertraining MS11
DESCRIPTION:&nbsp\;\n\n\n\n
CATEGORIES:Jugendgruppe
LOCATION:Gatow (Wassersportheim Gatow)\, Alt-Gatow 5-7\,  \, Berlin\, 14089
 \, Deutschland
X-APPLE-STRUCTURED-LOCATION;VALUE=URI;X-ADDRESS=Alt-Gatow 5-7\,  \, Berlin\
 , 14089\, Deutschland;X-APPLE-RADIUS=100;X-TITLE=Gatow (Wassersportheim Ga
 tow):geo:0,0
END:VEVENT
BEGIN:VEVENT
UID:1111@wannseeaten1911.de
DTSTART;TZID=Europe/Berlin:20240727T080000
DTEND;TZID=Europe/Berlin:20240727T180000
DTSTAMP:20240308T170340Z
URL:https://wannseeaten1911.de/events/j-berliner-meisterschaft/
SUMMARY:(J) Berliner Meisterschaft
DESCRIPTION:&nbsp\;\n\n
CATEGORIES:Jugendgruppe
LOCATION:Gatow (Wassersportheim Gatow)\, Alt-Gatow 5-7\,  \, Berlin\, 14089
 \, Deutschland
X-APPLE-STRUCTURED-LOCATION;VALUE=URI;X-ADDRESS=Alt-Gatow 5-7\,  \, Berlin\
 , 14089\, Deutschland;X-APPLE-RADIUS=100;X-TITLE=Gatow (Wassersportheim Ga
 tow):geo:0,0
END:VEVENT
BEGIN:VEVENT
UID:1088@wannseeaten1911.de
DTSTART;TZID=Europe/Berlin:20240730T160000
DTEND;TZID=Europe/Berlin:20240730T200000
DTSTAMP:20240305T200451Z
URL:https://wannseeaten1911.de/events/j-training-4-2024-07-30/
SUMMARY:(J) Training
DESCRIPTION:&nbsp\;\n\n
CATEGORIES:Jugendgruppe
LOCATION:Gatow (Wassersportheim Gatow)\, Alt-Gatow 5-7\,  \, Berlin\, 14089
 \, Deutschland
X-APPLE-STRUCTURED-LOCATION;VALUE=URI;X-ADDRESS=Alt-Gatow 5-7\,  \, Berlin\
 , 14089\, Deutschland;X-APPLE-RADIUS=100;X-TITLE=Gatow (Wassersportheim Ga
 tow):geo:0,0
END:VEVENT
BEGIN:VEVENT
UID:1089@wannseeaten1911.de
DTSTART;TZID=Europe/Berlin:20240731T160000
DTEND;TZID=Europe/Berlin:20240731T200000
DTSTAMP:20240305T200451Z
URL:https://wannseeaten1911.de/events/j-training-4-2024-07-31/
SUMMARY:(J) Training
DESCRIPTION:&nbsp\;\n\n
CATEGORIES:Jugendgruppe
LOCATION:Gatow (Wassersportheim Gatow)\, Alt-Gatow 5-7\,  \, Berlin\, 14089
 \, Deutschland
X-APPLE-STRUCTURED-LOCATION;VALUE=URI;X-ADDRESS=Alt-Gatow 5-7\,  \, Berlin\
 , 14089\, Deutschland;X-APPLE-RADIUS=100;X-TITLE=Gatow (Wassersportheim Ga
 tow):geo:0,0
END:VEVENT
BEGIN:VEVENT
UID:1090@wannseeaten1911.de
DTSTART;TZID=Europe/Berlin:20240806T160000
DTEND;TZID=Europe/Berlin:20240806T200000
DTSTAMP:20240305T200451Z
URL:https://wannseeaten1911.de/events/j-training-4-2024-08-06/
SUMMARY:(J) Training
DESCRIPTION:&nbsp\;\n\n
CATEGORIES:Jugendgruppe
LOCATION:Gatow (Wassersportheim Gatow)\, Alt-Gatow 5-7\,  \, Berlin\, 14089
 \, Deutschland
X-APPLE-STRUCTURED-LOCATION;VALUE=URI;X-ADDRESS=Alt-Gatow 5-7\,  \, Berlin\
 , 14089\, Deutschland;X-APPLE-RADIUS=100;X-TITLE=Gatow (Wassersportheim Ga
 tow):geo:0,0
END:VEVENT
BEGIN:VEVENT
UID:1091@wannseeaten1911.de
DTSTART;TZID=Europe/Berlin:20240807T160000
DTEND;TZID=Europe/Berlin:20240807T200000
DTSTAMP:20240305T200451Z
URL:https://wannseeaten1911.de/events/j-training-4-2024-08-07/
SUMMARY:(J) Training
DESCRIPTION:&nbsp\;\n\n
CATEGORIES:Jugendgruppe
LOCATION:Gatow (Wassersportheim Gatow)\, Alt-Gatow 5-7\,  \, Berlin\, 14089
 \, Deutschland
X-APPLE-STRUCTURED-LOCATION;VALUE=URI;X-ADDRESS=Alt-Gatow 5-7\,  \, Berlin\
 , 14089\, Deutschland;X-APPLE-RADIUS=100;X-TITLE=Gatow (Wassersportheim Ga
 tow):geo:0,0
END:VEVENT
BEGIN:VEVENT
UID:1092@wannseeaten1911.de
DTSTART;TZID=Europe/Berlin:20240813T160000
DTEND;TZID=Europe/Berlin:20240813T200000
DTSTAMP:20240305T200451Z
URL:https://wannseeaten1911.de/events/j-training-4-2024-08-13/
SUMMARY:(J) Training
DESCRIPTION:&nbsp\;\n\n
CATEGORIES:Jugendgruppe
LOCATION:Gatow (Wassersportheim Gatow)\, Alt-Gatow 5-7\,  \, Berlin\, 14089
 \, Deutschland
X-APPLE-STRUCTURED-LOCATION;VALUE=URI;X-ADDRESS=Alt-Gatow 5-7\,  \, Berlin\
 , 14089\, Deutschland;X-APPLE-RADIUS=100;X-TITLE=Gatow (Wassersportheim Ga
 tow):geo:0,0
END:VEVENT
BEGIN:VTIMEZONE
TZID:Europe/Berlin
X-LIC-LOCATION:Europe/Berlin
BEGIN:STANDARD
DTSTART:20231029T020000
TZOFFSETFROM:+0200
TZOFFSETTO:+0100
TZNAME:CET
END:STANDARD
BEGIN:DAYLIGHT
DTSTART:20240331T030000
TZOFFSETFROM:+0100
TZOFFSETTO:+0200
TZNAME:CEST
END:DAYLIGHT
END:VTIMEZONE
END:VCALENDAR