BEGIN:VCALENDAR
VERSION:2.0
PRODID:-//wp-events-plugin.com//7.2.3.1//EN
TZID:Europe/Berlin
X-WR-TIMEZONE:Europe/Berlin
BEGIN:VEVENT
UID:1978@wannseeaten1911.de
DTSTART;TZID=Europe/Berlin:20261117T170000
DTEND;TZID=Europe/Berlin:20261117T190000
DTSTAMP:20260422T055039Z
URL:https://wannseeaten1911.de/events/ke-training-der-kegelgruppe-2026-04-
 21-2026-04-28-2026-05-05-2026-05-12-2026-05-19-2026-05-26-2026-06-02-2026-
 06-09-2026-06-16-2026-06-23-2026-06-30-2026-07-07-2026-07-14-2026-07-21-20
 26-10-2026-11-17/
SUMMARY:(Ke) Training der Kegelgruppe
DESCRIPTION:
CATEGORIES:Kegelgruppe
LOCATION:Kegelhalle Siemensstadt\, Lenther Steig 7\,  \, 13629\, Berlin\, D
 eutschland
X-APPLE-STRUCTURED-LOCATION;VALUE=URI;X-ADDRESS=Lenther Steig 7\,  \, 13629
 \, Berlin\, Deutschland;X-APPLE-RADIUS=100;X-TITLE=Kegelhalle Siemensstadt
 :geo:0,0
END:VEVENT
BEGIN:VTIMEZONE
TZID:Europe/Berlin
X-LIC-LOCATION:Europe/Berlin
BEGIN:STANDARD
DTSTART:20261025T020000
TZOFFSETFROM:+0200
TZOFFSETTO:+0100
TZNAME:CET
END:STANDARD
END:VTIMEZONE
END:VCALENDAR